BEGIN:VCALENDAR
PRODID:-//eluceo/ical//2.0/EN
VERSION:2.0
CALSCALE:GREGORIAN
BEGIN:VEVENT
UID:5b420aa75295e2da40c29576cc6c14f5
DTSTAMP:20260419T162605Z
SUMMARY:Führung Pro Infirmis: Summervögel
DESCRIPTION:Die TeilnehmerInnen hören Geschichten aus dem Leben der\nSchme
 tterlinge und können diese bewundern.\n
DTSTART;VALUE=DATE:20180525
LOCATION:
GEO:47.051662;8.301044
X-APPLE-STRUCTURED-LOCATION;VALUE=URI;X-ADDRESS=;X-APPLE-RADIUS=49;X-TITLE=
 :geo:47.051662,8.301044
END:VEVENT
END:VCALENDAR
