BEGIN:VCALENDAR
PRODID:-//eluceo/ical//2.0/EN
VERSION:2.0
CALSCALE:GREGORIAN
BEGIN:VEVENT
UID:2c4ab48bcf6a5bc30260dbe51fc209fb
DTSTAMP:20260419T174839Z
SUMMARY:Kunststoffe: Fluch oder Segen?
DESCRIPTION:Kunststoff ist heute allgegenwärtig.\n
DTSTART;VALUE=DATE:20180621
LOCATION:
GEO:47.160073;8.515251
X-APPLE-STRUCTURED-LOCATION;VALUE=URI;X-ADDRESS=;X-APPLE-RADIUS=49;X-TITLE=
 :geo:47.160073,8.515251
END:VEVENT
END:VCALENDAR
