BEGIN:VCALENDAR
PRODID:-//eluceo/ical//2.0/EN
VERSION:2.0
CALSCALE:GREGORIAN
BEGIN:VEVENT
UID:83514092df791a7709ed69c24fa05b28
DTSTAMP:20260419T162552Z
SUMMARY:Rohstoffgeschichten
DESCRIPTION:Rohstoffabbau und -handel einst und jetzt.\n
DTSTART;VALUE=DATE:20180527
LOCATION:
GEO:47.160214;8.516268
X-APPLE-STRUCTURED-LOCATION;VALUE=URI;X-ADDRESS=;X-APPLE-RADIUS=49;X-TITLE=
 :geo:47.160214,8.516268
END:VEVENT
END:VCALENDAR
