BEGIN:VCALENDAR
PRODID:-//eluceo/ical//2.0/EN
VERSION:2.0
CALSCALE:GREGORIAN
BEGIN:VEVENT
UID:bdf6c39590a98746278f3839c047cea4
DTSTAMP:20260419T210713Z
SUMMARY:Eisvogel & Co. am oberen Sempachersee
DESCRIPTION:Mit Experten gehen wir auf die Suche nach dem Eisvogel am\nSemp
 acherseee.\n
DTSTART;VALUE=DATE:20181110
LOCATION:
GEO:47.136677;8.188347
X-APPLE-STRUCTURED-LOCATION;VALUE=URI;X-ADDRESS=;X-APPLE-RADIUS=49;X-TITLE=
 :geo:47.136677,8.188347
END:VEVENT
END:VCALENDAR
