BEGIN:VCALENDAR
PRODID:-//eluceo/ical//2.0/EN
VERSION:2.0
CALSCALE:GREGORIAN
BEGIN:VEVENT
UID:07053903930dc852330f165915240b67
DTSTAMP:20260419T162605Z
SUMMARY:Tierische Dörfer und Städte / GV WWF Luzern
DESCRIPTION:Biologin Sandra Gloor und Stadtrat Adrian Borgula nehmen uns mi
 t auf\neine Stadttour.\n
DTSTART;VALUE=DATE:20180508
LOCATION:
GEO:47.054597;8.302977
X-APPLE-STRUCTURED-LOCATION;VALUE=URI;X-ADDRESS=;X-APPLE-RADIUS=49;X-TITLE=
 :geo:47.054597,8.302977
END:VEVENT
END:VCALENDAR
