BEGIN:VCALENDAR
PRODID:-//eluceo/ical//2.0/EN
VERSION:2.0
CALSCALE:GREGORIAN
BEGIN:VEVENT
UID:9dc533c87c537a9fa2ad7fd40c4c36ee
DTSTAMP:20260418T171813Z
SUMMARY:Plädoyer für eine Energiewende mit Zukunft
DESCRIPTION:Wie die Schweiz 100% erneuerbaren Strom herstellen kann.\n
DTSTART;VALUE=DATE:20180426
LOCATION:
GEO:47.054811;8.306745
X-APPLE-STRUCTURED-LOCATION;VALUE=URI;X-ADDRESS=;X-APPLE-RADIUS=49;X-TITLE=
 :geo:47.054811,8.306745
END:VEVENT
END:VCALENDAR
