BEGIN:VCALENDAR
PRODID:-//eluceo/ical//2.0/EN
VERSION:2.0
CALSCALE:GREGORIAN
BEGIN:VEVENT
UID:685e6b8e2e9e8355337472e9b878d67c
DTSTAMP:20260419T150610Z
SUMMARY:Der Aabach aus der Fischperspektive
DESCRIPTION:Ein Fischer und zwei Experten/-innen führen uns dem Aabach ent
 lang\nund zeigen uns den Lebensraum.\n
DTSTART;VALUE=DATE:20180325
LOCATION:
GEO:47.244297;8.224096
X-APPLE-STRUCTURED-LOCATION;VALUE=URI;X-ADDRESS=;X-APPLE-RADIUS=49;X-TITLE=
 :geo:47.244297,8.224096
END:VEVENT
END:VCALENDAR
