BEGIN:VCALENDAR
PRODID:-//eluceo/ical//2.0/EN
VERSION:2.0
CALSCALE:GREGORIAN
BEGIN:VEVENT
UID:da71f00b8923b89cd1813ebcd74bf4ef
DTSTAMP:20260419T144147Z
SUMMARY:Durch Workshop zum "Urban Gardener"
DESCRIPTION:Durch Workshop zum „Urban Gardener“\n
DTSTART;VALUE=DATE:20180213
LOCATION:
GEO:47.041333;8.306821
X-APPLE-STRUCTURED-LOCATION;VALUE=URI;X-ADDRESS=;X-APPLE-RADIUS=49;X-TITLE=
 :geo:47.041333,8.306821
END:VEVENT
END:VCALENDAR
