BEGIN:VCALENDAR
PRODID:-//eluceo/ical//2.0/EN
VERSION:2.0
CALSCALE:GREGORIAN
BEGIN:VEVENT
UID:4d23dc74c1ef47a875224a3a6e1f3234
DTSTAMP:20260419T133124Z
SUMMARY: Auf den Spuren des Luchses
DESCRIPTION:Wir begeben uns auf die Spuren des Luchses.\n
DTSTART;VALUE=DATE:20171125
END:VEVENT
END:VCALENDAR
