BEGIN:VCALENDAR
PRODID:-//eluceo/ical//2.0/EN
VERSION:2.0
CALSCALE:GREGORIAN
BEGIN:VEVENT
UID:2716e6c7ee7899d3d14a95bb6f4be315
DTSTAMP:20260423T160217Z
SUMMARY:Ausstellung "exotische Problempflanzen" in Meggen
DESCRIPTION:Erkundigen Sie sich über Problempflanzen.\n
DTSTART;VALUE=DATE:20170504
DTEND;VALUE=DATE:20170517
LOCATION:
GEO:47.046637;8.374454
X-APPLE-STRUCTURED-LOCATION;VALUE=URI;X-ADDRESS=;X-APPLE-RADIUS=49;X-TITLE=
 :geo:47.046637,8.374454
END:VEVENT
END:VCALENDAR
