BEGIN:VCALENDAR
PRODID:-//eluceo/ical//2.0/EN
VERSION:2.0
CALSCALE:GREGORIAN
BEGIN:VEVENT
UID:a69f1ea0a23a70fd28c6c1cc151e9154
DTSTAMP:20260423T160007Z
SUMMARY:Ausstellung "Kirschlorbeer" in Horw
DESCRIPTION:Ausstellung "Kirschlorbeer" an diversen Standorten in der Gemei
 nde\nHorw\n
DTSTART;VALUE=DATE:20170405
LOCATION:
GEO:47.018986;8.309725
X-APPLE-STRUCTURED-LOCATION;VALUE=URI;X-ADDRESS=;X-APPLE-RADIUS=49;X-TITLE=
 :geo:47.018986,8.309725
END:VEVENT
END:VCALENDAR
