BEGIN:VCALENDAR
PRODID:-//eluceo/ical//2.0/EN
VERSION:2.0
CALSCALE:GREGORIAN
BEGIN:VEVENT
UID:d2267382701ee92bfe55b3d960cf5b09
DTSTAMP:20260423T143318Z
SUMMARY:Ausstellung und Standaktion "Neophyten" in Ruswil
DESCRIPTION:Exotische Problemplfanzen in Ruswil: Standaktion und Ausstellun
 g vor\nder Gemeindebibliothek\n
DTSTART;VALUE=DATE:20170520
LOCATION:
GEO:47.084059;8.126288
X-APPLE-STRUCTURED-LOCATION;VALUE=URI;X-ADDRESS=;X-APPLE-RADIUS=49;X-TITLE=
 :geo:47.084059,8.126288
END:VEVENT
END:VCALENDAR
